BEGIN:VCALENDAR
VERSION:2.0
PRODID:-//United Way of Southwest Alabama - ECPv6.15.20//NONSGML v1.0//EN
CALSCALE:GREGORIAN
METHOD:PUBLISH
X-WR-CALNAME:United Way of Southwest Alabama
X-ORIGINAL-URL:https://uwswa.org
X-WR-CALDESC:Events for United Way of Southwest Alabama
REFRESH-INTERVAL;VALUE=DURATION:PT1H
X-Robots-Tag:noindex
X-PUBLISHED-TTL:PT1H
BEGIN:VTIMEZONE
TZID:America/Chicago
BEGIN:DAYLIGHT
TZOFFSETFROM:-0600
TZOFFSETTO:-0500
TZNAME:CDT
DTSTART:20240310T080000
END:DAYLIGHT
BEGIN:STANDARD
TZOFFSETFROM:-0500
TZOFFSETTO:-0600
TZNAME:CST
DTSTART:20241103T070000
END:STANDARD
BEGIN:DAYLIGHT
TZOFFSETFROM:-0600
TZOFFSETTO:-0500
TZNAME:CDT
DTSTART:20250309T080000
END:DAYLIGHT
BEGIN:STANDARD
TZOFFSETFROM:-0500
TZOFFSETTO:-0600
TZNAME:CST
DTSTART:20251102T070000
END:STANDARD
BEGIN:DAYLIGHT
TZOFFSETFROM:-0600
TZOFFSETTO:-0500
TZNAME:CDT
DTSTART:20260308T080000
END:DAYLIGHT
BEGIN:STANDARD
TZOFFSETFROM:-0500
TZOFFSETTO:-0600
TZNAME:CST
DTSTART:20261101T070000
END:STANDARD
END:VTIMEZONE
BEGIN:VEVENT
DTSTART;TZID=America/Chicago:20251205T090000
DTEND;TZID=America/Chicago:20251205T110000
DTSTAMP:20260423T171027
CREATED:20250923T210302Z
LAST-MODIFIED:20251016T210337Z
UID:29947-1764925200-1764932400@uwswa.org
SUMMARY:United Way & Verizon to Host A Disaster Resilience Forum Featuring Jim Cantore
DESCRIPTION:United Way of Southwest Alabama\, in partnership with Verizon\, is hosting a Disaster Resilience Forum featuring Jim Cantore of The Weather Channel on Friday\, December 5\, from 9:00 to 11:00 a.m. at the University of South Alabama MacQueen Alumni Center\, located at 100 Alumni Drive\, Mobile\, AL 36688. \nJim Cantore\, one of the most recognized meteorologists in the nation\, will deliver the keynote address. Since joining The Weather Channel in 1986\, Cantore has reported on many of the most significant storms in recent history\, including Hurricanes Katrina\, Sandy\, Irma\, Dorian\, and Michael. His career has made him a trusted voice in disaster preparedness and community resilience. Following his remarks\, attendees will have the opportunity to participate in a question-and-answer session. \nTickets: Admission is $10 per person. Children age three and under may attend at no cost. Refunds are available only if requested more than 48 hours before the event.
URL:https://uwswa.org/event/united-way-verizon-to-host-a-disaster-resilience-forum-featuring-jim-cantore/
LOCATION:USA MacQueen Alumni Center\, 100 Alumni Drive\, Mobile\, Alabama\, 36688
ATTACH;FMTTYPE=image/png:https://uwswa.org/wp-content/uploads/2025/09/JIM-12.05-1.png
ORGANIZER;CN="United Way of Southwest Alabama":MAILTO:liveunited@uwswa.org
END:VEVENT
END:VCALENDAR