BEGIN:VCALENDAR
VERSION:2.0
PRODID:-//United Way of Southwest Alabama - ECPv6.15.20//NONSGML v1.0//EN
CALSCALE:GREGORIAN
METHOD:PUBLISH
X-ORIGINAL-URL:https://uwswa.org
X-WR-CALDESC:Events for United Way of Southwest Alabama
REFRESH-INTERVAL;VALUE=DURATION:PT1H
X-Robots-Tag:noindex
X-PUBLISHED-TTL:PT1H
BEGIN:VTIMEZONE
TZID:America/Chicago
BEGIN:DAYLIGHT
TZOFFSETFROM:-0600
TZOFFSETTO:-0500
TZNAME:CDT
DTSTART:20240310T080000
END:DAYLIGHT
BEGIN:STANDARD
TZOFFSETFROM:-0500
TZOFFSETTO:-0600
TZNAME:CST
DTSTART:20241103T070000
END:STANDARD
BEGIN:DAYLIGHT
TZOFFSETFROM:-0600
TZOFFSETTO:-0500
TZNAME:CDT
DTSTART:20250309T080000
END:DAYLIGHT
BEGIN:STANDARD
TZOFFSETFROM:-0500
TZOFFSETTO:-0600
TZNAME:CST
DTSTART:20251102T070000
END:STANDARD
BEGIN:DAYLIGHT
TZOFFSETFROM:-0600
TZOFFSETTO:-0500
TZNAME:CDT
DTSTART:20260308T080000
END:DAYLIGHT
BEGIN:STANDARD
TZOFFSETFROM:-0500
TZOFFSETTO:-0600
TZNAME:CST
DTSTART:20261101T070000
END:STANDARD
END:VTIMEZONE
BEGIN:VEVENT
DTSTART;TZID=America/Chicago:20251212T103000
DTEND;TZID=America/Chicago:20251212T123000
DTSTAMP:20260423T165944
CREATED:20251208T163108Z
LAST-MODIFIED:20251208T231758Z
UID:30212-1765535400-1765542600@uwswa.org
SUMMARY:Clarke County Food Distribution at Boys & Girls Club of Southwest Alabama
DESCRIPTION:United Way of Southwest Alabama and the Boys and Girls Club of Southwest Alabama\, with support from Westervelt Lumber\, will host a community food distribution on Friday\, December 12\, from 10:30 a.m. to 12:30 p.m. at the Boys and Girls Club in Thomasville. Food will be available on a first come\, first served basis while supplies last. A valid driver license or photo ID is required to receive assistance. \nVolunteers are needed to help prepare and distribute food from 8 a.m. to 1 p.m. To volunteer\, contact Sierra Skipper at sskipper@uwswa.org or 251.400.7770.
URL:https://uwswa.org/event/thomasville-food-distribution-at-boys-girls-club-of-southwest-alabama/
LOCATION:Boys and Girls Club of Southwest Alabama\, 149 Adams Avenue\, Thomasville\, Alabama\, 36784
ATTACH;FMTTYPE=image/jpeg:https://uwswa.org/wp-content/uploads/2025/12/25-THOMASVILLE-Food-Distribution-STORY-1080-x-1920-px-1920-x-1005-px.jpg
ORGANIZER;CN="United Way of Southwest Alabama":MAILTO:liveunited@uwswa.org
END:VEVENT
END:VCALENDAR