BEGIN:VCALENDAR
VERSION:2.0
PRODID:-//United Way of Southwest Alabama - ECPv6.15.20//NONSGML v1.0//EN
CALSCALE:GREGORIAN
METHOD:PUBLISH
X-ORIGINAL-URL:https://uwswa.org
X-WR-CALDESC:Events for United Way of Southwest Alabama
REFRESH-INTERVAL;VALUE=DURATION:PT1H
X-Robots-Tag:noindex
X-PUBLISHED-TTL:PT1H
BEGIN:VTIMEZONE
TZID:America/Chicago
BEGIN:DAYLIGHT
TZOFFSETFROM:-0600
TZOFFSETTO:-0500
TZNAME:CDT
DTSTART:20250309T080000
END:DAYLIGHT
BEGIN:STANDARD
TZOFFSETFROM:-0500
TZOFFSETTO:-0600
TZNAME:CST
DTSTART:20251102T070000
END:STANDARD
BEGIN:DAYLIGHT
TZOFFSETFROM:-0600
TZOFFSETTO:-0500
TZNAME:CDT
DTSTART:20260308T080000
END:DAYLIGHT
BEGIN:STANDARD
TZOFFSETFROM:-0500
TZOFFSETTO:-0600
TZNAME:CST
DTSTART:20261101T070000
END:STANDARD
BEGIN:DAYLIGHT
TZOFFSETFROM:-0600
TZOFFSETTO:-0500
TZNAME:CDT
DTSTART:20270314T080000
END:DAYLIGHT
BEGIN:STANDARD
TZOFFSETFROM:-0500
TZOFFSETTO:-0600
TZNAME:CST
DTSTART:20271107T070000
END:STANDARD
END:VTIMEZONE
BEGIN:VEVENT
DTSTART;TZID=America/Chicago:20260210T163000
DTEND;TZID=America/Chicago:20260210T183000
DTSTAMP:20260423T134851
CREATED:20250116T211749Z
LAST-MODIFIED:20260129T173441Z
UID:29110-1770741000-1770748200@uwswa.org
SUMMARY:United Way Annual Mardi Gras Social
DESCRIPTION:Join United Way of Southwest Alabama for a festive Mardi Gras Social in the heart of downtown Mobile. This family-friendly event includes food from Taco Mama Midtown\, traditional King Cakes from Pollman Bake Shop\, and a special tasting experience hosted by Gulf Distributing featuring selections from the Boston Beer Company. \nEnjoy the company of fellow community supporters\, grab a bite\, sample refreshing beverages\, and celebrate the season in a relaxed setting. After the event\, head just one block over to enjoy the sights and sounds of the Order of LaShe’s parade. \nSpace is limited and registration is required. RSVP to https://UWMardiGrasSocial.eventbrite.com \n\nThank you to our sponsor: Gulf Distributing Company\, Boston Beer Company\, Pollman’s Bake Shop\, & Taco Mama
URL:https://uwswa.org/event/mardi-gras-social/
LOCATION:United Way of Southwest Alabama\, 218 St. Francis Street\, Mobile\, Alabama\, 36602
ATTACH;FMTTYPE=image/png:https://uwswa.org/wp-content/uploads/2025/01/26-MG-main-graphic.png
ORGANIZER;CN="United Way of Southwest Alabama":MAILTO:liveunited@uwswa.org
END:VEVENT
END:VCALENDAR