BEGIN:VCALENDAR
VERSION:2.0
PRODID:-//United Way of Southwest Alabama - ECPv6.15.20//NONSGML v1.0//EN
CALSCALE:GREGORIAN
METHOD:PUBLISH
X-WR-CALNAME:United Way of Southwest Alabama
X-ORIGINAL-URL:https://uwswa.org
X-WR-CALDESC:Events for United Way of Southwest Alabama
REFRESH-INTERVAL;VALUE=DURATION:PT1H
X-Robots-Tag:noindex
X-PUBLISHED-TTL:PT1H
BEGIN:VTIMEZONE
TZID:America/Chicago
BEGIN:DAYLIGHT
TZOFFSETFROM:-0600
TZOFFSETTO:-0500
TZNAME:CDT
DTSTART:20250309T080000
END:DAYLIGHT
BEGIN:STANDARD
TZOFFSETFROM:-0500
TZOFFSETTO:-0600
TZNAME:CST
DTSTART:20251102T070000
END:STANDARD
BEGIN:DAYLIGHT
TZOFFSETFROM:-0600
TZOFFSETTO:-0500
TZNAME:CDT
DTSTART:20260308T080000
END:DAYLIGHT
BEGIN:STANDARD
TZOFFSETFROM:-0500
TZOFFSETTO:-0600
TZNAME:CST
DTSTART:20261101T070000
END:STANDARD
BEGIN:DAYLIGHT
TZOFFSETFROM:-0600
TZOFFSETTO:-0500
TZNAME:CDT
DTSTART:20270314T080000
END:DAYLIGHT
BEGIN:STANDARD
TZOFFSETFROM:-0500
TZOFFSETTO:-0600
TZNAME:CST
DTSTART:20271107T070000
END:STANDARD
END:VTIMEZONE
BEGIN:VEVENT
DTSTART;TZID=America/Chicago:20260509T070000
DTEND;TZID=America/Chicago:20260509T150000
DTSTAMP:20260423T121824
CREATED:20260309T215104Z
LAST-MODIFIED:20260404T153329Z
UID:30519-1778310000-1778338800@uwswa.org
SUMMARY:Washington County Golf Tournament
DESCRIPTION:The United Way of Southwest Alabama is thrilled to invite golfers and supporters to hit the links at The Pines of Chatom on June 6\, 2026\, for the 5th Annual Washington County Golf Tournament. This exciting event promises a day of competitive play\, camaraderie\, and community impact\, with proceeds directly benefiting United Way and our partner agencies serving Washington County. \nGolfers will take on the course in a three-person scramble format\, ensuring that every swing counts and every player has the chance to contribute to their team’s score. The tournament will kick off with a shotgun start at 8:00 a.m.\, following team registration at 7:00 a.m. After players complete their rounds\, they can relax and unwind at the celebratory19th Hole Party\, where stories from the day’s best shots (and maybe a few mulligans) are sure to be shared. \nRegistration fees are #100 per player. Carts are available but must be reserved in advance. There will be none available on the day of the tournament. Players my bring and use their own carts. \nTo register\, click here  to download a registration form or visit https://UWGolf-WashingtonCounty.eventbrite.com \nSponsorships are available. Click here to download a sponsorship form. \nContact Sierra Skipper at 251.400.7770 or sskipper@uwswa.org. \n  \n 
URL:https://uwswa.org/event/washington-county-golf-tournament/
LOCATION:The Pines of Chatom\, 16461 St Stephens Ave\, Chatom\, AL\, 36518\, United States
ATTACH;FMTTYPE=image/jpeg:https://uwswa.org/wp-content/uploads/2026/03/26-WC-Golf-FLYER-06.06-1.jpg
ORGANIZER;CN="United Way of Southwest Alabama":MAILTO:liveunited@uwswa.org
END:VEVENT
END:VCALENDAR