BEGIN:VCALENDAR
VERSION:2.0
PRODID:-//United Way of Southwest Alabama - ECPv6.15.20//NONSGML v1.0//EN
CALSCALE:GREGORIAN
METHOD:PUBLISH
X-ORIGINAL-URL:https://uwswa.org
X-WR-CALDESC:Events for United Way of Southwest Alabama
REFRESH-INTERVAL;VALUE=DURATION:PT1H
X-Robots-Tag:noindex
X-PUBLISHED-TTL:PT1H
BEGIN:VTIMEZONE
TZID:America/Chicago
BEGIN:DAYLIGHT
TZOFFSETFROM:-0600
TZOFFSETTO:-0500
TZNAME:CDT
DTSTART:20250309T080000
END:DAYLIGHT
BEGIN:STANDARD
TZOFFSETFROM:-0500
TZOFFSETTO:-0600
TZNAME:CST
DTSTART:20251102T070000
END:STANDARD
BEGIN:DAYLIGHT
TZOFFSETFROM:-0600
TZOFFSETTO:-0500
TZNAME:CDT
DTSTART:20260308T080000
END:DAYLIGHT
BEGIN:STANDARD
TZOFFSETFROM:-0500
TZOFFSETTO:-0600
TZNAME:CST
DTSTART:20261101T070000
END:STANDARD
BEGIN:DAYLIGHT
TZOFFSETFROM:-0600
TZOFFSETTO:-0500
TZNAME:CDT
DTSTART:20270314T080000
END:DAYLIGHT
BEGIN:STANDARD
TZOFFSETFROM:-0500
TZOFFSETTO:-0600
TZNAME:CST
DTSTART:20271107T070000
END:STANDARD
END:VTIMEZONE
BEGIN:VEVENT
DTSTART;VALUE=DATE:20260501
DTEND;VALUE=DATE:20260502
DTSTAMP:20260423T183416
CREATED:20260128T201106Z
LAST-MODIFIED:20260311T145902Z
UID:30375-1777593600-1777679999@uwswa.org
SUMMARY:100 Days of Caring 2026
DESCRIPTION:United Way of Southwest Alabama’s 32nd Annual Day of Caring celebrates 100 years of community impact with a month-long focus on service during Volunteer Appreciation Month. Throughout April\, volunteer teams will complete hands-on projects supporting local nonprofit partner agencies\, culminating in a community-wide Day of Caring on May 1. Projects include painting\, landscaping\, organizing donations\, facility improvements\, and collection drives for agency wish lists. Businesses\, organizations\, and community groups are invited to participate and help build stronger communities across Choctaw\, Clarke\, Mobile\, and Washington counties. \nThank you to our 100 Days of Caring Sponsor – BASF \nClick here to register your team. \nFor more information\, contact Lindsay Lum at llum@uwswa.org or 251.433.3624.
URL:https://uwswa.org/event/day-of-caring-2026/
LOCATION:Alabama
ATTACH;FMTTYPE=image/png:https://uwswa.org/wp-content/uploads/2026/01/26-DOC-Event-FB-with-Sponsors-scaled.png
ORGANIZER;CN="United Way of Southwest Alabama":MAILTO:liveunited@uwswa.org
END:VEVENT
BEGIN:VEVENT
DTSTART;TZID=America/Chicago:20260509T070000
DTEND;TZID=America/Chicago:20260509T150000
DTSTAMP:20260423T183416
CREATED:20260309T215104Z
LAST-MODIFIED:20260404T153329Z
UID:30519-1778310000-1778338800@uwswa.org
SUMMARY:Washington County Golf Tournament
DESCRIPTION:The United Way of Southwest Alabama is thrilled to invite golfers and supporters to hit the links at The Pines of Chatom on June 6\, 2026\, for the 5th Annual Washington County Golf Tournament. This exciting event promises a day of competitive play\, camaraderie\, and community impact\, with proceeds directly benefiting United Way and our partner agencies serving Washington County. \nGolfers will take on the course in a three-person scramble format\, ensuring that every swing counts and every player has the chance to contribute to their team’s score. The tournament will kick off with a shotgun start at 8:00 a.m.\, following team registration at 7:00 a.m. After players complete their rounds\, they can relax and unwind at the celebratory19th Hole Party\, where stories from the day’s best shots (and maybe a few mulligans) are sure to be shared. \nRegistration fees are #100 per player. Carts are available but must be reserved in advance. There will be none available on the day of the tournament. Players my bring and use their own carts. \nTo register\, click here  to download a registration form or visit https://UWGolf-WashingtonCounty.eventbrite.com \nSponsorships are available. Click here to download a sponsorship form. \nContact Sierra Skipper at 251.400.7770 or sskipper@uwswa.org. \n  \n 
URL:https://uwswa.org/event/washington-county-golf-tournament/
LOCATION:The Pines of Chatom\, 16461 St Stephens Ave\, Chatom\, AL\, 36518\, United States
ATTACH;FMTTYPE=image/jpeg:https://uwswa.org/wp-content/uploads/2026/03/26-WC-Golf-FLYER-06.06-1.jpg
ORGANIZER;CN="United Way of Southwest Alabama":MAILTO:liveunited@uwswa.org
END:VEVENT
BEGIN:VEVENT
DTSTART;TZID=America/Chicago:20260612T080000
DTEND;TZID=America/Chicago:20260612T170000
DTSTAMP:20260423T183416
CREATED:20260224T225359Z
LAST-MODIFIED:20260311T153553Z
UID:30451-1781251200-1781283600@uwswa.org
SUMMARY:Georgia-Pacific Vendor Charity Golf Tournament
DESCRIPTION:Proceeds to benefit United Way of Southwest Alabama programs and partner agencies serving Choctaw County.
URL:https://uwswa.org/event/georgia-pacific-vendor-charity-golf-tournament/
LOCATION:Choctaw County Country Club\, 495 Country Club Drive\, Butler\, AL\, 36904\, United States
ATTACH;FMTTYPE=image/png:https://uwswa.org/wp-content/uploads/2026/02/26-GP-Golf-Graphic-1920-x-1005-px.png
END:VEVENT
BEGIN:VEVENT
DTSTART;TZID=America/Chicago:20260620T080000
DTEND;TZID=America/Chicago:20260620T170000
DTSTAMP:20260423T183416
CREATED:20260309T214902Z
LAST-MODIFIED:20260309T221722Z
UID:30515-1781942400-1781974800@uwswa.org
SUMMARY:Emerging Leaders Pickleball Tournament
DESCRIPTION:
URL:https://uwswa.org/event/emerging-leaders-pickleball-tournament/
LOCATION:Pickle Rage\, 314 South University Blvd.\, Mobile\, Alabama\, 36609
ATTACH;FMTTYPE=image/png:https://uwswa.org/wp-content/uploads/2026/03/26-Graphic-Pickleball-Tournament-Flyer-1920-x-1005-px.png
ORGANIZER;CN="United Way of Southwest Alabama":MAILTO:liveunited@uwswa.org
END:VEVENT
BEGIN:VEVENT
DTSTART;VALUE=DATE:20261002
DTEND;VALUE=DATE:20261003
DTSTAMP:20260423T183416
CREATED:20260311T154432Z
LAST-MODIFIED:20260311T211427Z
UID:30532-1790899200-1790985599@uwswa.org
SUMMARY:United Way Clay Shoot
DESCRIPTION:SAVE THE DATE
URL:https://uwswa.org/event/united-way-clay-shoot/
LOCATION:Soggy Bottom Lodge\, 18618 Highway 43\, Linden\, Alabama\, 36750
ATTACH;FMTTYPE=image/png:https://uwswa.org/wp-content/uploads/2026/03/26-Clay-Shoot-Graphic-2.png
ORGANIZER;CN="United Way of Southwest Alabama":MAILTO:liveunited@uwswa.org
END:VEVENT
END:VCALENDAR