BEGIN:VCALENDAR
VERSION:2.0
PRODID:-//United Way of Southwest Alabama - ECPv6.15.20//NONSGML v1.0//EN
CALSCALE:GREGORIAN
METHOD:PUBLISH
X-ORIGINAL-URL:https://uwswa.org
X-WR-CALDESC:Events for United Way of Southwest Alabama
REFRESH-INTERVAL;VALUE=DURATION:PT1H
X-Robots-Tag:noindex
X-PUBLISHED-TTL:PT1H
BEGIN:VTIMEZONE
TZID:America/Chicago
BEGIN:DAYLIGHT
TZOFFSETFROM:-0600
TZOFFSETTO:-0500
TZNAME:CDT
DTSTART:20230312T080000
END:DAYLIGHT
BEGIN:STANDARD
TZOFFSETFROM:-0500
TZOFFSETTO:-0600
TZNAME:CST
DTSTART:20231105T070000
END:STANDARD
BEGIN:DAYLIGHT
TZOFFSETFROM:-0600
TZOFFSETTO:-0500
TZNAME:CDT
DTSTART:20240310T080000
END:DAYLIGHT
BEGIN:STANDARD
TZOFFSETFROM:-0500
TZOFFSETTO:-0600
TZNAME:CST
DTSTART:20241103T070000
END:STANDARD
BEGIN:DAYLIGHT
TZOFFSETFROM:-0600
TZOFFSETTO:-0500
TZNAME:CDT
DTSTART:20250309T080000
END:DAYLIGHT
BEGIN:STANDARD
TZOFFSETFROM:-0500
TZOFFSETTO:-0600
TZNAME:CST
DTSTART:20251102T070000
END:STANDARD
END:VTIMEZONE
BEGIN:VEVENT
DTSTART;TZID=America/Chicago:20240628T130000
DTEND;TZID=America/Chicago:20240628T150000
DTSTAMP:20260423T143227
CREATED:20240617T195831Z
LAST-MODIFIED:20240626T133547Z
UID:28472-1719579600-1719586800@uwswa.org
SUMMARY:Family Fun Day in Bayou La Batre
DESCRIPTION:United Way of Southwest Alabama and Goodwill Gulf Coast are thrilled to announce the upcoming Family Fun Day\, a celebration of family and community. The event will take place on June 28\, from 1:00 PM to 3:00 PM\, at the Bayou La Batre Community Center located at 12745 Padgett Switch Road\, 36544. \nFamily Fun Day is a free event open to parents and children ages toddlers to 2nd grade. Attendees can look forward to a variety of activities and entertainment\, including games\, face painting\, prizes\, and delicious food and drinks. \n“We are excited to bring families together for a day of fun and togetherness\,” said Deborah Curry\, United Way of Southwest Alabama. “This event is a great opportunity for families to create lasting memories and strengthen bonds.” \nFor more information about Family Fun Day\, please contact Deborah Curry at 251-431-0115 or dcurry@uwswa.org\, or Tammy House at 251-367-0014 or thouse@goodwillgc.org. \n  \nDon’t miss out on this exciting event! Join us for Family Fun Day and celebrate the joy of family.
URL:https://uwswa.org/event/family-fun-day-in-bayou-la-batre/
LOCATION:Bayou La Batre Community Center\, 12745 Padgett Switch Road\, Bayou La Batre\, AL\, 36544\, United States
ATTACH;FMTTYPE=image/png:https://uwswa.org/wp-content/uploads/2024/06/24-Parents-as-Teachers-Family-Fun-Day-FB-Event-1.png
ORGANIZER;CN="United Way of Southwest Alabama":MAILTO:liveunited@uwswa.org
END:VEVENT
END:VCALENDAR