BEGIN:VCALENDAR
VERSION:2.0
PRODID:-//United Way of Southwest Alabama - ECPv6.15.20//NONSGML v1.0//EN
CALSCALE:GREGORIAN
METHOD:PUBLISH
X-ORIGINAL-URL:https://uwswa.org
X-WR-CALDESC:Events for United Way of Southwest Alabama
REFRESH-INTERVAL;VALUE=DURATION:PT1H
X-Robots-Tag:noindex
X-PUBLISHED-TTL:PT1H
BEGIN:VTIMEZONE
TZID:America/Chicago
BEGIN:DAYLIGHT
TZOFFSETFROM:-0600
TZOFFSETTO:-0500
TZNAME:CDT
DTSTART:20240310T080000
END:DAYLIGHT
BEGIN:STANDARD
TZOFFSETFROM:-0500
TZOFFSETTO:-0600
TZNAME:CST
DTSTART:20241103T070000
END:STANDARD
BEGIN:DAYLIGHT
TZOFFSETFROM:-0600
TZOFFSETTO:-0500
TZNAME:CDT
DTSTART:20250309T080000
END:DAYLIGHT
BEGIN:STANDARD
TZOFFSETFROM:-0500
TZOFFSETTO:-0600
TZNAME:CST
DTSTART:20251102T070000
END:STANDARD
BEGIN:DAYLIGHT
TZOFFSETFROM:-0600
TZOFFSETTO:-0500
TZNAME:CDT
DTSTART:20260308T080000
END:DAYLIGHT
BEGIN:STANDARD
TZOFFSETFROM:-0500
TZOFFSETTO:-0600
TZNAME:CST
DTSTART:20261101T070000
END:STANDARD
END:VTIMEZONE
BEGIN:VEVENT
DTSTART;TZID=America/Chicago:20251001T113000
DTEND;TZID=America/Chicago:20251001T130000
DTSTAMP:20260423T185435
CREATED:20250608T180346Z
LAST-MODIFIED:20251002T210046Z
UID:29554-1759318200-1759323600@uwswa.org
SUMMARY:United Way of Southwest Alabama 2025 Annual Meeting
DESCRIPTION:The United Way of Southwest Alabama Annual Meeting is on October 1\, from 11:30 a.m. to 1:00 p.m. at The Battle House Renaissance Mobile Hotel & Spa in downtown Mobile\, with doors opening at 11:00 a.m. This year’s event will feature keynote speaker\, Tyrone Prothro\, former University of Alabama football standout and current Jasper High School coach\, best known for “The Catch\,” which earned the 2006 ESPY Award for Best Play. The program will include a special awards presentation recognizing individuals and organizations who have made a lasting impact in Southwest Alabama. A VIP meet and greet with Prothro will be available to sponsors and select ticket holders. \nFor more information or to purchase tickets\, call 251.433.3624 or visit https://UnitedWayAM25.eventbrite.com.
URL:https://uwswa.org/event/united-way-of-southwest-alabama-2025-annual-meeting/
LOCATION:The Battle House Renaissance Hotel & Spa\, 26 North Royal Street\, Mobile\, 36602\, United States
ATTACH;FMTTYPE=image/jpeg:https://uwswa.org/wp-content/uploads/2025/06/25-AM-Graphic-1920-x-1005-px.jpg
ORGANIZER;CN="United Way of Southwest Alabama":MAILTO:liveunited@uwswa.org
END:VEVENT
BEGIN:VEVENT
DTSTART;TZID=America/Chicago:20251014T113000
DTEND;TZID=America/Chicago:20251014T130000
DTSTAMP:20260423T185435
CREATED:20250725T145751Z
LAST-MODIFIED:20250906T155357Z
UID:29761-1760441400-1760446800@uwswa.org
SUMMARY:Disaster Resilience Workshop IV – West Mobile County
DESCRIPTION:Verizon and United Way are hosting the fourth in a series of Disaster Resilience Workshops on October 14\, from 11:30 a.m. to 1:00 p.m. at Semmes Community Center. Doors open at 11:00 a.m. This free\, public event is to help individuals and families be better prepared for emergencies\, especially when it comes to being financially protected and properly insured before a disaster strikes. We will also cover other key tips for staying prepared and keeping your household safe. \nUnited Way will provide lunch during the event. Registered participants will have a chance to win a generator. To be eligible; they must be present at the time of the drawing. Each registration allows for one entry. Attendees will also receive disaster kits while supplies last. \n To register\, visit https://UWDisasterWorkshop.eventbrite.com.
URL:https://uwswa.org/event/disaster-resilience-workshop-iv-west-mobile-county/
LOCATION:Semmes Community Center\, 10141 Moffett Road\, Semmes\, Alabama\, 36575
ATTACH;FMTTYPE=image/jpeg:https://uwswa.org/wp-content/uploads/2025/07/Semmes-2.jpg
ORGANIZER;CN="United Way of Southwest Alabama":MAILTO:liveunited@uwswa.org
END:VEVENT
BEGIN:VEVENT
DTSTART;TZID=America/Chicago:20251018T160000
DTEND;TZID=America/Chicago:20251018T190000
DTSTAMP:20260423T185435
CREATED:20250906T162717Z
LAST-MODIFIED:20250906T162912Z
UID:29885-1760803200-1760814000@uwswa.org
SUMMARY:Joe Bullard - Wine of the River
DESCRIPTION:Join us for Mobile’s 8th Annual wine tasting event on Saturday\, October 18\, 2025 from 4PM-7PM at Battleship Memorial Park. Sample wine from national and international vineyards. With an “Around the World” theme focusing on cultural regions. Tickets for Wine on the River include a souvenir tasting cup\, all beverage samples\, food samples\, and a portion to benefit United Way of Southwest Alabama. 21+ only\, no children or babies allowed.\nGet tickets now – https://www.wineontherivermobile.com/tickets. \nSponsors: Joe Bullard Automotive\, Rouses Markets\, UJB\, LeMoyne’s Chophouse\, Alabama Peanut Producers\, iHeart (Sports Talk 99.5\, NewsRadio 710\, 107.3 The Beat\, 95KSJ\, 961. The Rocket\, TK101\, and Mix 99.9 Gulf Coast)
URL:https://uwswa.org/event/joe-bullard-wine-of-the-river/
LOCATION:Battleship Memorial Park\, 2703 Battleship Parkway\, Mobile\, Alabama\, 36602
ATTACH;FMTTYPE=image/jpeg:https://uwswa.org/wp-content/uploads/2025/09/25-Wine-onthe-River-graphic.jpg
END:VEVENT
END:VCALENDAR