BEGIN:VCALENDAR
VERSION:2.0
PRODID:-//United Way of Southwest Alabama - ECPv6.15.20//NONSGML v1.0//EN
CALSCALE:GREGORIAN
METHOD:PUBLISH
X-WR-CALNAME:United Way of Southwest Alabama
X-ORIGINAL-URL:https://uwswa.org
X-WR-CALDESC:Events for United Way of Southwest Alabama
REFRESH-INTERVAL;VALUE=DURATION:PT1H
X-Robots-Tag:noindex
X-PUBLISHED-TTL:PT1H
BEGIN:VTIMEZONE
TZID:America/Chicago
BEGIN:DAYLIGHT
TZOFFSETFROM:-0600
TZOFFSETTO:-0500
TZNAME:CDT
DTSTART:20250309T080000
END:DAYLIGHT
BEGIN:STANDARD
TZOFFSETFROM:-0500
TZOFFSETTO:-0600
TZNAME:CST
DTSTART:20251102T070000
END:STANDARD
BEGIN:DAYLIGHT
TZOFFSETFROM:-0600
TZOFFSETTO:-0500
TZNAME:CDT
DTSTART:20260308T080000
END:DAYLIGHT
BEGIN:STANDARD
TZOFFSETFROM:-0500
TZOFFSETTO:-0600
TZNAME:CST
DTSTART:20261101T070000
END:STANDARD
BEGIN:DAYLIGHT
TZOFFSETFROM:-0600
TZOFFSETTO:-0500
TZNAME:CDT
DTSTART:20270314T080000
END:DAYLIGHT
BEGIN:STANDARD
TZOFFSETFROM:-0500
TZOFFSETTO:-0600
TZNAME:CST
DTSTART:20271107T070000
END:STANDARD
END:VTIMEZONE
BEGIN:VEVENT
DTSTART;VALUE=DATE:20260302
DTEND;VALUE=DATE:20260307
DTSTAMP:20260423T104526
CREATED:20260128T200909Z
LAST-MODIFIED:20260224T224626Z
UID:30372-1772409600-1772841599@uwswa.org
SUMMARY:Read Across America Week
DESCRIPTION:United Way will celebrate Read Across America Week by bringing the joy of reading directly into local classrooms and promoting early literacy opportunities for families across the community. Throughout the week\, United Way staff\, community leaders\, and special guest readers will visit several Mobile County Public Schools 4K classrooms to read with students and encourage a lifelong love of books.
URL:https://uwswa.org/event/read-across-america-week/
LOCATION:Alabama
ATTACH;FMTTYPE=image/png:https://uwswa.org/wp-content/uploads/2026/02/read-across-America-graphic-B-1.png
ORGANIZER;CN="United Way of Southwest Alabama":MAILTO:liveunited@uwswa.org
END:VEVENT
BEGIN:VEVENT
DTSTART;VALUE=DATE:20260322
DTEND;VALUE=DATE:20260323
DTSTAMP:20260423T104526
CREATED:20260109T183959Z
LAST-MODIFIED:20260311T150949Z
UID:30290-1774137600-1774223999@uwswa.org
SUMMARY:United Way of Southwest Alabama's Birthday!
DESCRIPTION:
URL:https://uwswa.org/event/united-way-of-southwest-alabamas-birthday/
LOCATION:United Way of Southwest Alabama\, 218 St. Francis Street\, Mobile\, Alabama\, 36602
ATTACH;FMTTYPE=image/png:https://uwswa.org/wp-content/uploads/2026/01/Copy-of-Yellow-and-Blue-Cute-Illustration-Welcome-Spring-Presentation.png
ORGANIZER;CN="United Way of Southwest Alabama":MAILTO:liveunited@uwswa.org
END:VEVENT
END:VCALENDAR